BEGIN:VCALENDAR

VERSION:2.0

PRODID:-//hacksw/handcal//NONSGML v1.0//EN

CALSCALE:GREGORIAN

BEGIN:VEVENT

DTEND:20240116T020000Z

UID:20240116T010000Z-4253@southernthunderhog.com

DTSTAMP:20260422T151500Z

DESCRIPTION:Event info: https://southernthunderhog.com/wpsthd/rsvpmaker/mar
	tin-luther-king-jr-day/

URL;VALUE=URI:https://southernthunderhog.com/wpsthd/rsvpmaker/martin-luther-king-jr-day/

SUMMARY:Martin Luther King Jr. Day

DTSTART:20240116T010000Z

ORGANIZER;CN=Southern Thunder HOG:MAILTO:ballwm@southernthunderhog.com

END:VEVENT

END:VCALENDAR

