BEGIN:VCALENDAR

VERSION:2.0

PRODID:-//hacksw/handcal//NONSGML v1.0//EN

CALSCALE:GREGORIAN

BEGIN:VEVENT

DTEND:20240616T010000Z

UID:20240615T120000Z-4094@southernthunderhog.com

DTSTAMP:20260422T165643Z

DESCRIPTION:Event info: https://southernthunderhog.com/wpsthd/rsvpmaker/lac
	onia-motorcycle-week-laconia-nh-hog-check-in-2/

URL;VALUE=URI:https://southernthunderhog.com/wpsthd/rsvpmaker/laconia-motorcycle-week-laconia-nh-hog-check-in-2/

SUMMARY:Laconia Motorcycle Week - Laconia NH - HOG check in

DTSTART:20240615T120000Z

ORGANIZER;CN=Southern Thunder HOG:MAILTO:ballwm@southernthunderhog.com

END:VEVENT

END:VCALENDAR

