BEGIN:VCALENDAR

VERSION:2.0

PRODID:-//hacksw/handcal//NONSGML v1.0//EN

CALSCALE:GREGORIAN

BEGIN:VEVENT

DTEND:20230614T010000Z

UID:20230614T000000Z-3635@southernthunderhog.com

DTSTAMP:20260422T184355Z

DESCRIPTION:Event info: https://southernthunderhog.com/wpsthd/rsvpmaker/jun
	e-dinner-ride/

URL;VALUE=URI:https://southernthunderhog.com/wpsthd/rsvpmaker/june-dinner-ride/

SUMMARY:June Dinner Ride

DTSTART:20230614T000000Z

ORGANIZER;CN=Southern Thunder HOG:MAILTO:ballwm@southernthunderhog.com

END:VEVENT

END:VCALENDAR

