BEGIN:VCALENDAR

VERSION:2.0

PRODID:-//hacksw/handcal//NONSGML v1.0//EN

CALSCALE:GREGORIAN

BEGIN:VEVENT

DTEND:20230712T003000Z

UID:20230711T233000Z-3752@southernthunderhog.com

DTSTAMP:20260423T180256Z

DESCRIPTION:Event info: https://southernthunderhog.com/wpsthd/rsvpmaker/jul
	y-dinner-ride/

URL;VALUE=URI:https://southernthunderhog.com/wpsthd/rsvpmaker/july-dinner-ride/

SUMMARY:July Dinner Ride

DTSTART:20230711T233000Z

ORGANIZER;CN=Southern Thunder HOG:MAILTO:ballwm@southernthunderhog.com

END:VEVENT

END:VCALENDAR

