BEGIN:VCALENDAR

VERSION:2.0

PRODID:-//hacksw/handcal//NONSGML v1.0//EN

CALSCALE:GREGORIAN

BEGIN:VEVENT

DTEND:20240109T013000Z

UID:20240109T003000Z-4251@southernthunderhog.com

DTSTAMP:20260422T150450Z

DESCRIPTION:Event info: https://southernthunderhog.com/wpsthd/rsvpmaker/jan
	uary-planning-meeting/

URL;VALUE=URI:https://southernthunderhog.com/wpsthd/rsvpmaker/january-planning-meeting/

SUMMARY:January Planning Meeting

DTSTART:20240109T003000Z

ORGANIZER;CN=Southern Thunder HOG:MAILTO:ballwm@southernthunderhog.com

END:VEVENT

END:VCALENDAR

