BEGIN:VCALENDAR

VERSION:2.0

PRODID:-//hacksw/handcal//NONSGML v1.0//EN

CALSCALE:GREGORIAN

BEGIN:VEVENT

DTEND:20240728T130000Z

UID:20240725T120000Z-4096@southernthunderhog.com

DTSTAMP:20260422T165602Z

DESCRIPTION:Event info: https://southernthunderhog.com/wpsthd/rsvpmaker/har
	ley-davidson-homecoming-milwaukee-wi-hog-check-in/

URL;VALUE=URI:https://southernthunderhog.com/wpsthd/rsvpmaker/harley-davidson-homecoming-milwaukee-wi-hog-check-in/

SUMMARY:Harley-Davidson Homecoming - Milwaukee, WI - HOG check in

DTSTART:20240725T120000Z

ORGANIZER;CN=Southern Thunder HOG:MAILTO:ballwm@southernthunderhog.com

END:VEVENT

END:VCALENDAR

