BEGIN:VCALENDAR

VERSION:2.0

PRODID:-//hacksw/handcal//NONSGML v1.0//EN

CALSCALE:GREGORIAN

BEGIN:VEVENT

DTEND:20230705T045900Z

UID:20230704T050000Z-3698@southernthunderhog.com

DTSTAMP:20260423T180333Z

DESCRIPTION:Event info: https://southernthunderhog.com/wpsthd/rsvpmaker/hap
	py-4th-of-july/

URL;VALUE=URI:https://southernthunderhog.com/wpsthd/rsvpmaker/happy-4th-of-july/

SUMMARY:Happy 4th of July

DTSTART:20230704T050000Z

ORGANIZER;CN=Southern Thunder HOG:MAILTO:ballwm@southernthunderhog.com

END:VEVENT

END:VCALENDAR

