BEGIN:VCALENDAR

VERSION:2.0

PRODID:-//hacksw/handcal//NONSGML v1.0//EN

CALSCALE:GREGORIAN

BEGIN:VEVENT

DTEND:20211030T220000Z

UID:20211030T180000Z-2526@southernthunderhog.com

DTSTAMP:20260423T213511Z

DESCRIPTION:Event info: https://southernthunderhog.com/wpsthd/rsvpmaker/hal
	loween-spooktacular-at-southern-thunder/

URL;VALUE=URI:https://southernthunderhog.com/wpsthd/rsvpmaker/halloween-spooktacular-at-southern-thunder/

SUMMARY:Halloween Spooktacular at Southern Thunder

DTSTART:20211030T180000Z

ORGANIZER;CN=Southern Thunder HOG:MAILTO:ballwm@southernthunderhog.com

END:VEVENT

END:VCALENDAR

