BEGIN:VCALENDAR

VERSION:2.0

PRODID:-//hacksw/handcal//NONSGML v1.0//EN

CALSCALE:GREGORIAN

BEGIN:VEVENT

DTEND:20240608T130000Z

UID:20240606T110000Z-4077@southernthunderhog.com

DTSTAMP:20260422T184245Z

DESCRIPTION:Event info: https://southernthunderhog.com/wpsthd/rsvpmaker/gre
	at-lakes-h-o-g-rally-chippewa-falls-wi/

URL;VALUE=URI:https://southernthunderhog.com/wpsthd/rsvpmaker/great-lakes-h-o-g-rally-chippewa-falls-wi/

SUMMARY:Great Lakes H.O.G. Rally, - Chippewa Falls, WI

DTSTART:20240606T110000Z

ORGANIZER;CN=Southern Thunder HOG:MAILTO:ballwm@southernthunderhog.com

END:VEVENT

END:VCALENDAR

