BEGIN:VCALENDAR

VERSION:2.0

PRODID:-//hacksw/handcal//NONSGML v1.0//EN

CALSCALE:GREGORIAN

BEGIN:VEVENT

DTEND:20200325T170000Z

UID:20200325T140000Z-1684@southernthunderhog.com

DTSTAMP:20260424T020929Z

DESCRIPTION:Event info: https://southernthunderhog.com/wpsthd/rsvpmaker/fun
	-farts-weekly-wednesday-ride-2020-03-25/

URL;VALUE=URI:https://southernthunderhog.com/wpsthd/rsvpmaker/fun-farts-weekly-wednesday-ride-2020-03-25/

SUMMARY:Fun Farts Weekly Wednesday Ride

DTSTART:20200325T140000Z

ORGANIZER;CN=Southern Thunder HOG:MAILTO:ballwm@southernthunderhog.com

END:VEVENT

END:VCALENDAR

