BEGIN:VCALENDAR

VERSION:2.0

PRODID:-//hacksw/handcal//NONSGML v1.0//EN

CALSCALE:GREGORIAN

BEGIN:VEVENT

DTEND:20200304T180000Z

UID:20200304T150000Z-1681@southernthunderhog.com

DTSTAMP:20260424T015457Z

DESCRIPTION:Event info: https://southernthunderhog.com/wpsthd/rsvpmaker/fun
	-farts-weekly-wednesday-ride-2020-03-04/

URL;VALUE=URI:https://southernthunderhog.com/wpsthd/rsvpmaker/fun-farts-weekly-wednesday-ride-2020-03-04/

SUMMARY:Fun Farts Weekly Wednesday Ride

DTSTART:20200304T150000Z

ORGANIZER;CN=Southern Thunder HOG:MAILTO:ballwm@southernthunderhog.com

END:VEVENT

END:VCALENDAR

