BEGIN:VCALENDAR

VERSION:2.0

PRODID:-//hacksw/handcal//NONSGML v1.0//EN

CALSCALE:GREGORIAN

BEGIN:VEVENT

DTEND:20200226T180000Z

UID:20200226T150000Z-1680@southernthunderhog.com

DTSTAMP:20260424T015458Z

DESCRIPTION:Event info: https://southernthunderhog.com/wpsthd/rsvpmaker/fun
	-farts-weekly-wednesday-ride-2020-02-26/

URL;VALUE=URI:https://southernthunderhog.com/wpsthd/rsvpmaker/fun-farts-weekly-wednesday-ride-2020-02-26/

SUMMARY:Fun Farts Weekly Wednesday Ride

DTSTART:20200226T150000Z

ORGANIZER;CN=Southern Thunder HOG:MAILTO:ballwm@southernthunderhog.com

END:VEVENT

END:VCALENDAR

