BEGIN:VCALENDAR

VERSION:2.0

PRODID:-//hacksw/handcal//NONSGML v1.0//EN

CALSCALE:GREGORIAN

BEGIN:VEVENT

DTEND:20230729T210000Z

UID:20230729T140000Z-3685@southernthunderhog.com

DTSTAMP:20260423T175827Z

DESCRIPTION:Event info: https://southernthunderhog.com/wpsthd/rsvpmaker/fre
	edom-bash/

URL;VALUE=URI:https://southernthunderhog.com/wpsthd/rsvpmaker/freedom-bash/

SUMMARY:Southern Thunder Freedom Bash

DTSTART:20230729T140000Z

ORGANIZER;CN=Southern Thunder HOG:MAILTO:ballwm@southernthunderhog.com

END:VEVENT

END:VCALENDAR

