BEGIN:VCALENDAR

VERSION:2.0

PRODID:-//hacksw/handcal//NONSGML v1.0//EN

CALSCALE:GREGORIAN

BEGIN:VEVENT

DTEND:20200411T130000Z

UID:20200411T120000Z-1792@southernthunderhog.com

DTSTAMP:20260423T233537Z

DESCRIPTION:Event info: https://southernthunderhog.com/wpsthd/rsvpmaker/eas
	ter-weekend-no-planned-ride/

URL;VALUE=URI:https://southernthunderhog.com/wpsthd/rsvpmaker/easter-weekend-no-planned-ride/

SUMMARY:Easter Weekend - No Planned Ride

DTSTART:20200411T120000Z

ORGANIZER;CN=Southern Thunder HOG:MAILTO:ballwm@southernthunderhog.com

END:VEVENT

END:VCALENDAR

