BEGIN:VCALENDAR

VERSION:2.0

PRODID:-//hacksw/handcal//NONSGML v1.0//EN

CALSCALE:GREGORIAN

BEGIN:VEVENT

DTEND:20240903T000000Z

UID:20240902T000000Z-4060@southernthunderhog.com

DTSTAMP:20260422T155903Z

DESCRIPTION:Event info: https://southernthunderhog.com/wpsthd/rsvpmaker/eas
	t-meets-west-posse-ride-3/

URL;VALUE=URI:https://southernthunderhog.com/wpsthd/rsvpmaker/east-meets-west-posse-ride-3/

SUMMARY:East Meets West Posse Ride

DTSTART:20240902T000000Z

ORGANIZER;CN=Southern Thunder HOG:MAILTO:ballwm@southernthunderhog.com

END:VEVENT

END:VCALENDAR

