BEGIN:VCALENDAR

VERSION:2.0

PRODID:-//hacksw/handcal//NONSGML v1.0//EN

CALSCALE:GREGORIAN

BEGIN:VEVENT

DTEND:20221109T013000Z

UID:20221109T003000Z-3263@southernthunderhog.com

DTSTAMP:20260422T163841Z

DESCRIPTION:Event info: https://southernthunderhog.com/wpsthd/rsvpmaker/din
	ner-ride-to-wolf-river-brisket-co/

URL;VALUE=URI:https://southernthunderhog.com/wpsthd/rsvpmaker/dinner-ride-to-wolf-river-brisket-co/

SUMMARY:Dinner Ride to Wolf River Brisket Co.

DTSTART:20221109T003000Z

ORGANIZER;CN=Southern Thunder HOG:MAILTO:ballwm@southernthunderhog.com

END:VEVENT

END:VCALENDAR

