BEGIN:VCALENDAR

VERSION:2.0

PRODID:-//hacksw/handcal//NONSGML v1.0//EN

CALSCALE:GREGORIAN

BEGIN:VEVENT

DTEND:20201209T000000Z

UID:20201208T230000Z-1838@southernthunderhog.com

DTSTAMP:20260423T233754Z

DESCRIPTION:Event info: https://southernthunderhog.com/wpsthd/rsvpmaker/din
	ner-ride-tbd-2020-12-08/

URL;VALUE=URI:https://southernthunderhog.com/wpsthd/rsvpmaker/dinner-ride-tbd-2020-12-08/

SUMMARY:Dinner Ride ..... TBD

DTSTART:20201208T230000Z

ORGANIZER;CN=Southern Thunder HOG:MAILTO:ballwm@southernthunderhog.com

END:VEVENT

END:VCALENDAR

