BEGIN:VCALENDAR

VERSION:2.0

PRODID:-//hacksw/handcal//NONSGML v1.0//EN

CALSCALE:GREGORIAN

BEGIN:VEVENT

DTEND:20201111T000000Z

UID:20201110T230000Z-1837@southernthunderhog.com

DTSTAMP:20260423T234453Z

DESCRIPTION:Event info: https://southernthunderhog.com/wpsthd/rsvpmaker/din
	ner-ride-tbd-2020-11-10/

URL;VALUE=URI:https://southernthunderhog.com/wpsthd/rsvpmaker/dinner-ride-tbd-2020-11-10/

SUMMARY:Dinner Ride ..... TBD

DTSTART:20201110T230000Z

ORGANIZER;CN=Southern Thunder HOG:MAILTO:ballwm@southernthunderhog.com

END:VEVENT

END:VCALENDAR

