BEGIN:VCALENDAR

VERSION:2.0

PRODID:-//hacksw/handcal//NONSGML v1.0//EN

CALSCALE:GREGORIAN

BEGIN:VEVENT

DTEND:20200811T230000Z

UID:20200811T220000Z-1834@southernthunderhog.com

DTSTAMP:20260424T012618Z

DESCRIPTION:Event info: https://southernthunderhog.com/wpsthd/rsvpmaker/din
	ner-ride-tbd-2020-08-11/

URL;VALUE=URI:https://southernthunderhog.com/wpsthd/rsvpmaker/dinner-ride-tbd-2020-08-11/

SUMMARY:Dinner Ride ..... TBD

DTSTART:20200811T220000Z

ORGANIZER;CN=Southern Thunder HOG:MAILTO:ballwm@southernthunderhog.com

END:VEVENT

END:VCALENDAR

