BEGIN:VCALENDAR

VERSION:2.0

PRODID:-//hacksw/handcal//NONSGML v1.0//EN

CALSCALE:GREGORIAN

BEGIN:VEVENT

DTEND:20200512T230000Z

UID:20200512T220000Z-1831@southernthunderhog.com

DTSTAMP:20260423T233752Z

DESCRIPTION:Event info: https://southernthunderhog.com/wpsthd/rsvpmaker/din
	ner-ride-tbd-2020-05-12/

URL;VALUE=URI:https://southernthunderhog.com/wpsthd/rsvpmaker/dinner-ride-tbd-2020-05-12/

SUMMARY:Dinner Ride ..... TBD

DTSTART:20200512T220000Z

ORGANIZER;CN=Southern Thunder HOG:MAILTO:ballwm@southernthunderhog.com

END:VEVENT

END:VCALENDAR

