BEGIN:VCALENDAR

VERSION:2.0

PRODID:-//hacksw/handcal//NONSGML v1.0//EN

CALSCALE:GREGORIAN

BEGIN:VEVENT

DTEND:20200223T020000Z

UID:20200222T233000Z-1743@southernthunderhog.com

DTSTAMP:20260423T233642Z

DESCRIPTION:Event info: https://southernthunderhog.com/wpsthd/rsvpmaker/del
	ta-steakhouse-senatobia/

URL;VALUE=URI:https://southernthunderhog.com/wpsthd/rsvpmaker/delta-steakhouse-senatobia/

SUMMARY:DELTA STEAKHOUSE SENATOBIA

DTSTART:20200222T233000Z

ORGANIZER;CN=Southern Thunder HOG:MAILTO:ballwm@southernthunderhog.com

END:VEVENT

END:VCALENDAR

