BEGIN:VCALENDAR

VERSION:2.0

PRODID:-//hacksw/handcal//NONSGML v1.0//EN

CALSCALE:GREGORIAN

BEGIN:VEVENT

DTEND:20240308T130000Z

UID:20240302T130000Z-4087@southernthunderhog.com

DTSTAMP:20260422T164322Z

DESCRIPTION:Event info: https://southernthunderhog.com/wpsthd/rsvpmaker/day
	tona-bike-week-hog-check-in/

URL;VALUE=URI:https://southernthunderhog.com/wpsthd/rsvpmaker/daytona-bike-week-hog-check-in/

SUMMARY:Daytona Bike Week HOG check in

DTSTART:20240302T130000Z

ORGANIZER;CN=Southern Thunder HOG:MAILTO:ballwm@southernthunderhog.com

END:VEVENT

END:VCALENDAR

