BEGIN:VCALENDAR

VERSION:2.0

PRODID:-//hacksw/handcal//NONSGML v1.0//EN

CALSCALE:GREGORIAN

BEGIN:VEVENT

DTEND:20240310T020000Z

UID:20240309T130000Z-4089@southernthunderhog.com

DTSTAMP:20260422T165000Z

DESCRIPTION:Event info: https://southernthunderhog.com/wpsthd/rsvpmaker/day
	tona-bike-week-hog-check-in-2/

URL;VALUE=URI:https://southernthunderhog.com/wpsthd/rsvpmaker/daytona-bike-week-hog-check-in-2/

SUMMARY:Daytona Bike Week - Daytona Beach, FL - HOG check in

DTSTART:20240309T130000Z

ORGANIZER;CN=Southern Thunder HOG:MAILTO:ballwm@southernthunderhog.com

END:VEVENT

END:VCALENDAR

