BEGIN:VCALENDAR

VERSION:2.0

PRODID:-//hacksw/handcal//NONSGML v1.0//EN

CALSCALE:GREGORIAN

BEGIN:VEVENT

DTEND:20200502T150000Z

UID:20200502T140000Z-1809@southernthunderhog.com

DTSTAMP:20260423T233605Z

DESCRIPTION:Event info: https://southernthunderhog.com/wpsthd/rsvpmaker/cro
	wleys-ridge-ride/

URL;VALUE=URI:https://southernthunderhog.com/wpsthd/rsvpmaker/crowleys-ridge-ride/

SUMMARY:Crowley's Ridge Ride

DTSTART:20200502T140000Z

ORGANIZER;CN=Southern Thunder HOG:MAILTO:ballwm@southernthunderhog.com

END:VEVENT

END:VCALENDAR

