BEGIN:VCALENDAR

VERSION:2.0

PRODID:-//hacksw/handcal//NONSGML v1.0//EN

CALSCALE:GREGORIAN

BEGIN:VEVENT

DTEND:20221211T040000Z

UID:20221211T003000Z-3270@southernthunderhog.com

DTSTAMP:20260422T163801Z

DESCRIPTION:Event info: https://southernthunderhog.com/wpsthd/rsvpmaker/chr
	istmas-party-2/

URL;VALUE=URI:https://southernthunderhog.com/wpsthd/rsvpmaker/christmas-party-2/

SUMMARY:Christmas Party

DTSTART:20221211T003000Z

ORGANIZER;CN=Southern Thunder HOG:MAILTO:ballwm@southernthunderhog.com

END:VEVENT

END:VCALENDAR

