BEGIN:VCALENDAR

VERSION:2.0

PRODID:-//hacksw/handcal//NONSGML v1.0//EN

CALSCALE:GREGORIAN

BEGIN:VEVENT

DTEND:20240117T020000Z

UID:20240117T010000Z-4206@southernthunderhog.com

DTSTAMP:20260422T150154Z

DESCRIPTION:Event info: https://southernthunderhog.com/wpsthd/rsvpmaker/cha
	pter-meeting/

URL;VALUE=URI:https://southernthunderhog.com/wpsthd/rsvpmaker/chapter-meeting/

SUMMARY:Chapter Meeting

DTSTART:20240117T010000Z

ORGANIZER;CN=Southern Thunder HOG:MAILTO:ballwm@southernthunderhog.com

END:VEVENT

END:VCALENDAR

