BEGIN:VCALENDAR

VERSION:2.0

PRODID:-//hacksw/handcal//NONSGML v1.0//EN

CALSCALE:GREGORIAN

BEGIN:VEVENT

DTEND:20240221T010000Z

UID:20240221T000000Z-4258@southernthunderhog.com

DTSTAMP:20260422T155243Z

DESCRIPTION:Event info: https://southernthunderhog.com/wpsthd/rsvpmaker/cha
	pter-meeting-2/

URL;VALUE=URI:https://southernthunderhog.com/wpsthd/rsvpmaker/chapter-meeting-2/

SUMMARY:Chapter Meeting

DTSTART:20240221T000000Z

ORGANIZER;CN=Southern Thunder HOG:MAILTO:ballwm@southernthunderhog.com

END:VEVENT

END:VCALENDAR

