BEGIN:VCALENDAR

VERSION:2.0

PRODID:-//hacksw/handcal//NONSGML v1.0//EN

CALSCALE:GREGORIAN

BEGIN:VEVENT

DTEND:20221204T030000Z

UID:20221204T000000Z-3268@southernthunderhog.com

DTSTAMP:20260422T163841Z

DESCRIPTION:Event info: https://southernthunderhog.com/wpsthd/rsvpmaker/cen
	tral-park-southern-lights-and-dinner/

URL;VALUE=URI:https://southernthunderhog.com/wpsthd/rsvpmaker/central-park-southern-lights-and-dinner/

SUMMARY:Central Park Southern Lights and Dinner

DTSTART:20221204T000000Z

ORGANIZER;CN=Southern Thunder HOG:MAILTO:ballwm@southernthunderhog.com

END:VEVENT

END:VCALENDAR

