BEGIN:VCALENDAR

VERSION:2.0

PRODID:-//hacksw/handcal//NONSGML v1.0//EN

CALSCALE:GREGORIAN

BEGIN:VEVENT

DTEND:20230624T170000Z

UID:20230624T133000Z-3676@southernthunderhog.com

DTSTAMP:20260423T194544Z

DESCRIPTION:Event info: https://southernthunderhog.com/wpsthd/rsvpmaker/car
	s-bikes-coffee-2/

URL;VALUE=URI:https://southernthunderhog.com/wpsthd/rsvpmaker/cars-bikes-coffee-2/

SUMMARY:Cars, Bikes &amp; Coffee

DTSTART:20230624T133000Z

ORGANIZER;CN=Southern Thunder HOG:MAILTO:ballwm@southernthunderhog.com

END:VEVENT

END:VCALENDAR

