BEGIN:VCALENDAR

VERSION:2.0

PRODID:-//hacksw/handcal//NONSGML v1.0//EN

CALSCALE:GREGORIAN

BEGIN:VEVENT

DTEND:20241117T000000Z

UID:20241116T190000Z-4064@southernthunderhog.com

DTSTAMP:20260422T113450Z

DESCRIPTION:Event info: https://southernthunderhog.com/wpsthd/rsvpmaker/caj
	un-hog-chapter-annual-st-jude-childrens-hospital-fundraiser/

URL;VALUE=URI:https://southernthunderhog.com/wpsthd/rsvpmaker/cajun-hog-chapter-annual-st-jude-childrens-hospital-fundraiser/

SUMMARY:Cajun HOG Chapter annual St. Jude Children's Hospital Fundraiser

DTSTART:20241116T190000Z

ORGANIZER;CN=Southern Thunder HOG:MAILTO:ballwm@southernthunderhog.com

END:VEVENT

END:VCALENDAR

