BEGIN:VCALENDAR

VERSION:2.0

PRODID:-//hacksw/handcal//NONSGML v1.0//EN

CALSCALE:GREGORIAN

BEGIN:VEVENT

DTEND:20240413T130000Z

UID:20240411T120000Z-4113@southernthunderhog.com

DTSTAMP:20260422T175511Z

DESCRIPTION:Event info: https://southernthunderhog.com/wpsthd/rsvpmaker/caj
	un-county-h-o-g-rally-scott-la/

URL;VALUE=URI:https://southernthunderhog.com/wpsthd/rsvpmaker/cajun-county-h-o-g-rally-scott-la/

SUMMARY:Cajun County H.O.G. Rally - Scott, LA

DTSTART:20240411T120000Z

ORGANIZER;CN=Southern Thunder HOG:MAILTO:ballwm@southernthunderhog.com

END:VEVENT

END:VCALENDAR

