BEGIN:VCALENDAR

VERSION:2.0

PRODID:-//hacksw/handcal//NONSGML v1.0//EN

CALSCALE:GREGORIAN

BEGIN:VEVENT

DTEND:20230129T023000Z

UID:20230129T000000Z-3352@southernthunderhog.com

DTSTAMP:20260422T165533Z

DESCRIPTION:Event info: https://southernthunderhog.com/wpsthd/rsvpmaker/boo
	gie-bowling-strike-zone/

URL;VALUE=URI:https://southernthunderhog.com/wpsthd/rsvpmaker/boogie-bowling-strike-zone/

SUMMARY:Boogie Bowling - Strike Zone

DTSTART:20230129T000000Z

ORGANIZER;CN=Southern Thunder HOG:MAILTO:ballwm@southernthunderhog.com

END:VEVENT

END:VCALENDAR

