BEGIN:VCALENDAR

VERSION:2.0

PRODID:-//hacksw/handcal//NONSGML v1.0//EN

CALSCALE:GREGORIAN

BEGIN:VEVENT

DTEND:20221119T020000Z

UID:20221119T010000Z-3289@southernthunderhog.com

DTSTAMP:20260423T212846Z

DESCRIPTION:Event info: https://southernthunderhog.com/wpsthd/rsvpmaker/bil
	l_testing/

URL;VALUE=URI:https://southernthunderhog.com/wpsthd/rsvpmaker/bill_testing/

SUMMARY:Bill_Testing

DTSTART:20221119T010000Z

ORGANIZER;CN=Southern Thunder HOG:MAILTO:ballwm@southernthunderhog.com

END:VEVENT

END:VCALENDAR

