BEGIN:VCALENDAR

VERSION:2.0

PRODID:-//hacksw/handcal//NONSGML v1.0//EN

CALSCALE:GREGORIAN

BEGIN:VEVENT

DTEND:20230521T010000Z

UID:20230521T000000Z-3590@southernthunderhog.com

DTSTAMP:20260423T213020Z

DESCRIPTION:Event info: https://southernthunderhog.com/wpsthd/rsvpmaker/bil
	l_test/

URL;VALUE=URI:https://southernthunderhog.com/wpsthd/rsvpmaker/bill_test/

SUMMARY:Bill_Test

DTSTART:20230521T000000Z

ORGANIZER;CN=Southern Thunder HOG:MAILTO:ballwm@southernthunderhog.com

END:VEVENT

END:VCALENDAR

