BEGIN:VCALENDAR

VERSION:2.0

PRODID:-//hacksw/handcal//NONSGML v1.0//EN

CALSCALE:GREGORIAN

BEGIN:VEVENT

DTEND:20240922T120000Z

UID:20240918T120000Z-4102@southernthunderhog.com

DTSTAMP:20260422T155821Z

DESCRIPTION:Event info: https://southernthunderhog.com/wpsthd/rsvpmaker/bik
	e-blues-and-bbq-roger-ar-hog-check-in/

URL;VALUE=URI:https://southernthunderhog.com/wpsthd/rsvpmaker/bike-blues-and-bbq-roger-ar-hog-check-in/

SUMMARY:Bike, Blues and BBQ - Roger AR - HOG check in

DTSTART:20240918T120000Z

ORGANIZER;CN=Southern Thunder HOG:MAILTO:ballwm@southernthunderhog.com

END:VEVENT

END:VCALENDAR

